BEGIN:VCALENDAR
VERSION:2.0
PRODID:-//RVPS - ECPv6.15.20//NONSGML v1.0//EN
CALSCALE:GREGORIAN
METHOD:PUBLISH
X-ORIGINAL-URL:https://www.thervps.com
X-WR-CALDESC:Events for RVPS
REFRESH-INTERVAL;VALUE=DURATION:PT1H
X-Robots-Tag:noindex
X-PUBLISHED-TTL:PT1H
BEGIN:VTIMEZONE
TZID:Europe/London
BEGIN:DAYLIGHT
TZOFFSETFROM:+0000
TZOFFSETTO:+0100
TZNAME:BST
DTSTART:20230326T010000
END:DAYLIGHT
BEGIN:STANDARD
TZOFFSETFROM:+0100
TZOFFSETTO:+0000
TZNAME:GMT
DTSTART:20231029T010000
END:STANDARD
BEGIN:DAYLIGHT
TZOFFSETFROM:+0000
TZOFFSETTO:+0100
TZNAME:BST
DTSTART:20240331T010000
END:DAYLIGHT
BEGIN:STANDARD
TZOFFSETFROM:+0100
TZOFFSETTO:+0000
TZNAME:GMT
DTSTART:20241027T010000
END:STANDARD
BEGIN:DAYLIGHT
TZOFFSETFROM:+0000
TZOFFSETTO:+0100
TZNAME:BST
DTSTART:20250330T010000
END:DAYLIGHT
BEGIN:STANDARD
TZOFFSETFROM:+0100
TZOFFSETTO:+0000
TZNAME:GMT
DTSTART:20251026T010000
END:STANDARD
END:VTIMEZONE
BEGIN:VEVENT
DTSTART;TZID=Europe/London:20241104T200000
DTEND;TZID=Europe/London:20241104T230000
DTSTAMP:20260424T221616
CREATED:20240613T043754Z
LAST-MODIFIED:20240613T043754Z
UID:1344-1730750400-1730761200@www.thervps.com
SUMMARY:ASTROPHOTOGRAPHY AT GRASSHOLME OBSERVATORY
DESCRIPTION:At 8.00pm until 11.00pm.\n           Best way is to book direct because different prices are quoted dependant on age.\n           Book direct with Grassholme on – Astrophotography – Booking by Bookwhen\n\n\n\nWHERE TO FIND US\nNear Mickleton Village\, Barnard Castle\nIf coming from the north\, take the B6277 from the A67 at Barnard Castle. Continue along the B6277 towards Mickleton. Turn off left at the western end of the village onto West Pasture Road\, signposted Grassholme Reservoir. The main car park is roughly a mile up the road on the right. \nIf coming from the south\, take the B6276 from the A66 at Brough. Continue along the B6276 for 10 miles towards Thringarth. Turn right before reaching Thringarth onto Grassholme Lane\, near Selset Reservoir. Turn left onto Kelton Lane and the Grassholme Observatory main car park is roughly a mile up the road on the left. \nFind us using sat nav:\nDL12 0PW
URL:https://www.thervps.com/event/astrophotography-at-grassholme-observatory/
LOCATION:Grassholme Observatory\, Grassholme Reservoir\, Middleton-in-Teesdale\, Barnard Castle\, DL12 0PW\, United Kingdom
CATEGORIES:External Trip
END:VEVENT
BEGIN:VEVENT
DTSTART;TZID=Europe/London:20241102T080000
DTEND;TZID=Europe/London:20241102T170000
DTSTAMP:20260424T221616
CREATED:20240613T042837Z
LAST-MODIFIED:20240613T042837Z
UID:1341-1730534400-1730566800@www.thervps.com
SUMMARY:SATURDAY 2ND NOVEMBER - SALFORD VAN HIRE NEIL HOWARD STAGE RALLY AND FIREWORKS AT OULTON PARK
DESCRIPTION:0800  -     Meet at Oulton Park – Neil Howard Memorial Stage Rally and Fireworks @ Oulton Park November 2024 \n  \nWEBSITE DETAILS:  \nADULT AGES 16 AND ABOVE \n\n\n£21.00 ONLINE (GATE £25.00) SAVE 16% \n\n\n\n\nTEEN AGES 13 – 15\n\n\n£13.00 ONLINE (GATE £15.00) SAVE 13% \n\n\n\n\nSENIOR CITIZEN AGES 65 AND ABOVE\n\n\n£20.00 GATE ONLY \nPLEASE NOTE: Advance booking ends 16:00 Thursday 31 October. If you do not select e-tickets\, your order will be sent by Recorded Delivery (£3.99 per booking) or Special Delivery (£9.49 per booking) if specified. All posted orders received after 14:00 Wednesday 30 October will be sent by Special Delivery. Telephone bookings are subject to a surcharge of £1 per admission ticket. E-tickets can be accessed from your MSV online account. Under 18s must be accompanied by an Adult.
URL:https://www.thervps.com/event/saturday-2nd-november-salford-van-hire-neil-howard-stage-rally-and-fireworks-at-oulton-park/
LOCATION:Oulton Park\, Oulton Park Circuit\, Little Budworth\, Tarporley\, Cheshire\, CW6 9BW\, United Kingdom
CATEGORIES:External Trip
END:VEVENT
BEGIN:VEVENT
DTSTART;TZID=Europe/London:20241020T100000
DTEND;TZID=Europe/London:20241020T170000
DTSTAMP:20260424T221616
CREATED:20240613T042434Z
LAST-MODIFIED:20240613T042449Z
UID:1338-1729418400-1729443600@www.thervps.com
SUMMARY:SUNDAY 20TH OCTOBER - FOUNTAINS ABBEY AND STUDLEY ROYAL
DESCRIPTION: Autumn Tints and Red Deer Rut\n10.00am   Meet at The Visitor Centre – Fountains Abbey & Studley Royal | Yorkshire | National Trust\n\nDirections:\n\n\nBy road\n\nOff B6265 to Pateley Bridge from Ripon. Follow the brown signs for Fountains Abbey from A1. We’re 12 miles north of Harrogate (A61). \nParking: Free parking at the visitor centre. Studley Royal pay & display car park is first-come-first-served. For level access car park at West Gate use SatNav HG43DZ. What3Words – Visitor Centre: vanished.jobs.fights. Studley ticket office: hopefully.curiosity.mercy. West Gate ticket office: jams.overpower.flannel \nSat Nav: Use postcode HG43DY
URL:https://www.thervps.com/event/sunday-20th-october-fountains-abbey-and-studley-royal/
LOCATION:Fountains Abbey and Studley Royal Water Garden
CATEGORIES:External Trip
END:VEVENT
BEGIN:VEVENT
DTSTART;TZID=Europe/London:20240928T100000
DTEND;TZID=Europe/London:20240928T170000
DTSTAMP:20260424T221616
CREATED:20240613T040114Z
LAST-MODIFIED:20240613T040114Z
UID:1335-1727517600-1727542800@www.thervps.com
SUMMARY:SATURDAY 28TH SEPTEMBER - CRAVEN LIME WORKS\, STAINFORTH FORCE AND RIBBLEHEAD VIADUCT
DESCRIPTION:10.00am   Meet at car park postcode BD24 9NU or grid reference SD824 662 or maybe better we travel together leave KGVH at 0900\, Gisburn Cattle Market at 0930
URL:https://www.thervps.com/event/saturday-28th-september-craven-lime-works-stainforth-force-and-ribblehead-viaduct/
LOCATION:Settle Car Park\, Langcliffe\, Settle\, bd24 9nu\, United Kingdom
CATEGORIES:External Trip
END:VEVENT
BEGIN:VEVENT
DTSTART;TZID=Europe/London:20240913T090000
DTEND;TZID=Europe/London:20240913T170000
DTSTAMP:20260424T221616
CREATED:20240903T221120Z
LAST-MODIFIED:20240903T221408Z
UID:2170-1726218000-1726246800@www.thervps.com
SUMMARY:FRIDAY 13TH SEPTEMBER – OULTON PARK FOR BENNETTS SUPERBIKES at 0900
DESCRIPTION:BSB practice session. Actual racing is on the 14th/15th.\nThe practice session on the 13th will be quieter perhaps giving better photo opportunities.\nTickets online £16 \nMeet at Oulton Park at 0900 or share a lift from Knowle Green Village Hall at 0730
URL:https://www.thervps.com/event/friday-13th-september-oulton-park-for-bennetts-superbikes-at-0900/
LOCATION:Oulton Park\, Oulton Park Circuit\, Little Budworth\, Tarporley\, Cheshire\, CW6 9BW\, United Kingdom
CATEGORIES:External Trip
END:VEVENT
BEGIN:VEVENT
DTSTART;TZID=Europe/London:20240906T103000
DTEND;TZID=Europe/London:20240906T170000
DTSTAMP:20260424T221616
CREATED:20240613T035801Z
LAST-MODIFIED:20240613T035810Z
UID:1332-1725618600-1725642000@www.thervps.com
SUMMARY:FRIDAY 6TH SEPTEMBER - SNAIZEHOLME FOR RED SQUIRRELS
DESCRIPTION:10.30am   Meet at Dales Countryside Museum\, Hawes. We will be catching the Little White Bus which costs £7.36 return for adults. Recommended to book this in\n            advance. Red Squirrel Trail : Yorkshire Dales National Park – Red Squirrel Trail : Yorkshire Dales National Park
URL:https://www.thervps.com/event/friday-6th-september-snaizeholme-for-red-squirrels/
LOCATION:Dales Countryside Museum\, Station Yard\, Burtersett Road\, Hawes\, North Yorkshire\, DL8 3NT\, United Kingdom
CATEGORIES:External Trip
END:VEVENT
BEGIN:VEVENT
DTSTART;TZID=Europe/London:20240726T083000
DTEND;TZID=Europe/London:20240726T160000
DTSTAMP:20260424T221616
CREATED:20240613T035038Z
LAST-MODIFIED:20240613T035402Z
UID:1324-1721982600-1722009600@www.thervps.com
SUMMARY:MANCHESTER STREET PHOTOGRAPHY - FRIDAY 26TH JULY
DESCRIPTION:08.30  -    train from Whalley to Manchester Victoria\n10.00 -    Cafe North\, 66 Shudehill\, Manchester M4 4AA.\nWe will spend the day in Manchester including a visit to John Ryland Library.  Finish will be approx 4.00pm.
URL:https://www.thervps.com/event/friday-26th-july-manchester-street-photography/
LOCATION:Manchester
CATEGORIES:External Trip
END:VEVENT
END:VCALENDAR