BEGIN:VCALENDAR
VERSION:2.0
PRODID:-//RVPS - ECPv6.15.20//NONSGML v1.0//EN
CALSCALE:GREGORIAN
METHOD:PUBLISH
X-ORIGINAL-URL:https://www.thervps.com
X-WR-CALDESC:Events for RVPS
REFRESH-INTERVAL;VALUE=DURATION:PT1H
X-Robots-Tag:noindex
X-PUBLISHED-TTL:PT1H
BEGIN:VTIMEZONE
TZID:Europe/London
BEGIN:DAYLIGHT
TZOFFSETFROM:+0000
TZOFFSETTO:+0100
TZNAME:BST
DTSTART:20230326T010000
END:DAYLIGHT
BEGIN:STANDARD
TZOFFSETFROM:+0100
TZOFFSETTO:+0000
TZNAME:GMT
DTSTART:20231029T010000
END:STANDARD
BEGIN:DAYLIGHT
TZOFFSETFROM:+0000
TZOFFSETTO:+0100
TZNAME:BST
DTSTART:20240331T010000
END:DAYLIGHT
BEGIN:STANDARD
TZOFFSETFROM:+0100
TZOFFSETTO:+0000
TZNAME:GMT
DTSTART:20241027T010000
END:STANDARD
BEGIN:DAYLIGHT
TZOFFSETFROM:+0000
TZOFFSETTO:+0100
TZNAME:BST
DTSTART:20250330T010000
END:DAYLIGHT
BEGIN:STANDARD
TZOFFSETFROM:+0100
TZOFFSETTO:+0000
TZNAME:GMT
DTSTART:20251026T010000
END:STANDARD
END:VTIMEZONE
BEGIN:VEVENT
DTSTART;TZID=Europe/London:20240912T074500
DTEND;TZID=Europe/London:20240912T220000
DTSTAMP:20260425T235334
CREATED:20240903T220947Z
LAST-MODIFIED:20240903T220947Z
UID:2168-1726127100-1726178400@www.thervps.com
SUMMARY:THURSDAY 12th SEPTEMBER – GEORGE FRANKS WILL BE PRESENTING A TALK ON STILL LIFE AND PRODUCT PHOTOGRAPHY
DESCRIPTION:George Franks is a pro photographer working for Pro Sports images and Lancashire County Cricket Club – Instagram idge391 or twitter ggf_photos
URL:https://www.thervps.com/event/thursday-12th-september-george-franks-will-be-presenting-a-talk-on-still-life-and-product-photography/
LOCATION:Knowle Green Village Hall\, Knowle Green Village Hall\, Preston\, Preston\, PR3 2YQ\, United Kingdom
CATEGORIES:Presentation
END:VEVENT
END:VCALENDAR