BEGIN:VCALENDAR
VERSION:2.0
PRODID:-//RVPS - ECPv6.15.20//NONSGML v1.0//EN
CALSCALE:GREGORIAN
METHOD:PUBLISH
X-ORIGINAL-URL:https://www.thervps.com
X-WR-CALDESC:Events for RVPS
REFRESH-INTERVAL;VALUE=DURATION:PT1H
X-Robots-Tag:noindex
X-PUBLISHED-TTL:PT1H
BEGIN:VTIMEZONE
TZID:Europe/London
BEGIN:DAYLIGHT
TZOFFSETFROM:+0000
TZOFFSETTO:+0100
TZNAME:BST
DTSTART:20230326T010000
END:DAYLIGHT
BEGIN:STANDARD
TZOFFSETFROM:+0100
TZOFFSETTO:+0000
TZNAME:GMT
DTSTART:20231029T010000
END:STANDARD
BEGIN:DAYLIGHT
TZOFFSETFROM:+0000
TZOFFSETTO:+0100
TZNAME:BST
DTSTART:20240331T010000
END:DAYLIGHT
BEGIN:STANDARD
TZOFFSETFROM:+0100
TZOFFSETTO:+0000
TZNAME:GMT
DTSTART:20241027T010000
END:STANDARD
BEGIN:DAYLIGHT
TZOFFSETFROM:+0000
TZOFFSETTO:+0100
TZNAME:BST
DTSTART:20250330T010000
END:DAYLIGHT
BEGIN:STANDARD
TZOFFSETFROM:+0100
TZOFFSETTO:+0000
TZNAME:GMT
DTSTART:20251026T010000
END:STANDARD
END:VTIMEZONE
BEGIN:VEVENT
DTSTART;TZID=Europe/London:20241122T190000
DTEND;TZID=Europe/London:20241122T210000
DTSTAMP:20260424T210317
CREATED:20240904T003628Z
LAST-MODIFIED:20240904T003628Z
UID:2193-1732302000-1732309200@www.thervps.com
SUMMARY:THURSDAY 22ND NOVEMBER -  ( and every third Thursday ) – ZOOM MEETING AT 7.00PM
DESCRIPTION:Zoom meeting will be hosted by John Moxham AND Andy McLaughlin. Please email john@johnmoxham.co.uk with photographs you would like editing or submit any queries you may have of a technical nature you wish to be discussed. \nZoom link – https://us02web.zoom.us/j/82583128865
URL:https://www.thervps.com/event/thursday-22nd-november-and-every-third-thursday-zoom-meeting-at-7-00pm/
LOCATION:Online Zoom Meeting
CATEGORIES:Zoom Meeting
END:VEVENT
BEGIN:VEVENT
DTSTART;TZID=Europe/London:20241017T190000
DTEND;TZID=Europe/London:20241017T210000
DTSTAMP:20260424T210317
CREATED:20240904T003357Z
LAST-MODIFIED:20240904T003357Z
UID:2189-1729191600-1729198800@www.thervps.com
SUMMARY:THURSDAY 17TH OCTOBER -  ( and every third Thursday ) – ZOOM MEETING AT 7.00PM
DESCRIPTION:Zoom meeting will be hosted by John Moxham AND Andy McLaughlin . Please email john@johnmoxham.co.uk with photographs you would like editing or submit any queries you may have of a technical nature you wish to be discussed. \nZoom link – https://us02web.zoom.us/j/82583128865
URL:https://www.thervps.com/event/thursday-17th-october-and-every-third-thursday-zoom-meeting-at-7-00pm/
LOCATION:Online Zoom Meeting
CATEGORIES:Zoom Meeting
END:VEVENT
BEGIN:VEVENT
DTSTART;TZID=Europe/London:20240919T080000
DTEND;TZID=Europe/London:20240919T210000
DTSTAMP:20260424T210317
CREATED:20240903T222327Z
LAST-MODIFIED:20240903T222653Z
UID:2178-1726732800-1726779600@www.thervps.com
SUMMARY:THURSDAY 19th SEPTEMBER (and every third Thursday ) – ZOOM MEETING AT 7.00PM
DESCRIPTION:Zoom meeting will be hosted by John Moxham AND Andy McLaughlin. Please email john@johnmoxham.co.uk with photographs you would like editing or submit any queries you may have of a technical nature you wish to be discussed. \nZoom link – https://us02web.zoom.us/j/82583128865 \n 
URL:https://www.thervps.com/event/thursday-19th-september-and-every-third-thursday-zoom-meeting-at-7-00pm/
LOCATION:Online Zoom Meeting
CATEGORIES:Zoom Meeting
ORGANIZER;CN="John Moxham":MAILTO:john@johnmoxham.co.uk
END:VEVENT
BEGIN:VEVENT
DTSTART;TZID=Europe/London:20240620T190000
DTEND;TZID=Europe/London:20240620T210000
DTSTAMP:20260424T210317
CREATED:20240613T011942Z
LAST-MODIFIED:20240613T044431Z
UID:1291-1718910000-1718917200@www.thervps.com
SUMMARY:THURSDAY 20TH JUNE (and every third Thursday) – ZOOM MEETING AT 7.00PM
DESCRIPTION:Zoom meeting will be hosted by Andy McLaughlin. Please email andy@thervps.com with photographs you would like editing or submit any queries you may have of a technical nature you wish to be discussed.\nZoom link – https://us02web.zoom.us/j/82583128865
URL:https://www.thervps.com/event/thursday-20th-june-and-every-third-thursday-zoom-meeting-at-7-00pm/
LOCATION:Online Zoom Meeting
CATEGORIES:Zoom Meeting
END:VEVENT
END:VCALENDAR