BEGIN:VCALENDAR
VERSION:2.0
PRODID:-//RVPS - ECPv6.15.20//NONSGML v1.0//EN
CALSCALE:GREGORIAN
METHOD:PUBLISH
X-WR-CALNAME:RVPS
X-ORIGINAL-URL:https://www.thervps.com
X-WR-CALDESC:Events for RVPS
REFRESH-INTERVAL;VALUE=DURATION:PT1H
X-Robots-Tag:noindex
X-PUBLISHED-TTL:PT1H
BEGIN:VTIMEZONE
TZID:Europe/London
BEGIN:DAYLIGHT
TZOFFSETFROM:+0000
TZOFFSETTO:+0100
TZNAME:BST
DTSTART:20230326T010000
END:DAYLIGHT
BEGIN:STANDARD
TZOFFSETFROM:+0100
TZOFFSETTO:+0000
TZNAME:GMT
DTSTART:20231029T010000
END:STANDARD
BEGIN:DAYLIGHT
TZOFFSETFROM:+0000
TZOFFSETTO:+0100
TZNAME:BST
DTSTART:20240331T010000
END:DAYLIGHT
BEGIN:STANDARD
TZOFFSETFROM:+0100
TZOFFSETTO:+0000
TZNAME:GMT
DTSTART:20241027T010000
END:STANDARD
BEGIN:DAYLIGHT
TZOFFSETFROM:+0000
TZOFFSETTO:+0100
TZNAME:BST
DTSTART:20250330T010000
END:DAYLIGHT
BEGIN:STANDARD
TZOFFSETFROM:+0100
TZOFFSETTO:+0000
TZNAME:GMT
DTSTART:20251026T010000
END:STANDARD
END:VTIMEZONE
BEGIN:VEVENT
DTSTART;TZID=Europe/London:20241212T190000
DTEND;TZID=Europe/London:20241212T220000
DTSTAMP:20260425T120700
CREATED:20240904T004215Z
LAST-MODIFIED:20250723T013900Z
UID:2197-1734030000-1734040800@www.thervps.com
SUMMARY:THURSDAY 12TH DECEMBER – CHRISTMAS QUIZ NIGHT AND HOT POT SUPPER
DESCRIPTION:More details to follow but make a diary note.
URL:https://www.thervps.com/event/thursday-12th-december-christmas-quiz-night-and-hot-pot-supper/
LOCATION:Knowle Green Village Hall\, Knowle Green Village Hall\, Preston\, Preston\, PR3 2YQ\, United Kingdom
CATEGORIES:Christmas Quiz Night
END:VEVENT
BEGIN:VEVENT
DTSTART;TZID=Europe/London:20241129T194500
DTEND;TZID=Europe/London:20241129T220000
DTSTAMP:20260425T120700
CREATED:20240904T004025Z
LAST-MODIFIED:20240904T004025Z
UID:2195-1732909500-1732917600@www.thervps.com
SUMMARY:THURSDAY 29TH NOVEMBER – MEMBERS PHOTOS – AT 7.45PM
DESCRIPTION:Please email your photographs to Andy ajmclaughlin07@gmail.com . If you could send either 2 or 3 images by lunchtime on Wednesday 28th September. Don’t be shy it’s a great night and highly valued by members.
URL:https://www.thervps.com/event/thursday-29th-november-members-photos-at-7-45pm/
LOCATION:Knowle Green Village Hall\, Knowle Green Village Hall\, Preston\, Preston\, PR3 2YQ\, United Kingdom
CATEGORIES:Members Photos
END:VEVENT
BEGIN:VEVENT
DTSTART;TZID=Europe/London:20241122T190000
DTEND;TZID=Europe/London:20241122T210000
DTSTAMP:20260425T120700
CREATED:20240904T003628Z
LAST-MODIFIED:20240904T003628Z
UID:2193-1732302000-1732309200@www.thervps.com
SUMMARY:THURSDAY 22ND NOVEMBER -  ( and every third Thursday ) – ZOOM MEETING AT 7.00PM
DESCRIPTION:Zoom meeting will be hosted by John Moxham AND Andy McLaughlin. Please email john@johnmoxham.co.uk with photographs you would like editing or submit any queries you may have of a technical nature you wish to be discussed. \nZoom link – https://us02web.zoom.us/j/82583128865
URL:https://www.thervps.com/event/thursday-22nd-november-and-every-third-thursday-zoom-meeting-at-7-00pm/
LOCATION:Online Zoom Meeting
CATEGORIES:Zoom Meeting
END:VEVENT
BEGIN:VEVENT
DTSTART;TZID=Europe/London:20241115T194500
DTEND;TZID=Europe/London:20241115T220000
DTSTAMP:20260425T120700
CREATED:20240904T003532Z
LAST-MODIFIED:20240904T003532Z
UID:2191-1731699900-1731708000@www.thervps.com
SUMMARY:THURSDAY 15TH NOVEMBER – SCARLET PAGE VIA ZOOM LINK – 7.45pm at Village Hall
DESCRIPTION:Thanks to our Chairman – Trevor Jones he has arranged a presentation from Scarlet Page – Photographer. Scarlet has exhibited at The Royal Albert Hall and Proud Gallery Camden. Her CV is very impressive. THIS IS A NOT TO BE MISSED PRESENTATION. \nYou will have the opportunity to bring along guests for this event\, but we will need to charge a nominal fee of £5.00 which will go towards Scarlet’s fee. Settle members may attend as a non-fee paying guest.
URL:https://www.thervps.com/event/thursday-15th-november-scarlet-page-via-zoom-link-7-45pm-at-village-hall/
LOCATION:Knowle Green Village Hall\, Knowle Green Village Hall\, Preston\, Preston\, PR3 2YQ\, United Kingdom
CATEGORIES:Presentation
END:VEVENT
BEGIN:VEVENT
DTSTART;TZID=Europe/London:20241104T200000
DTEND;TZID=Europe/London:20241104T230000
DTSTAMP:20260425T120700
CREATED:20240613T043754Z
LAST-MODIFIED:20240613T043754Z
UID:1344-1730750400-1730761200@www.thervps.com
SUMMARY:ASTROPHOTOGRAPHY AT GRASSHOLME OBSERVATORY
DESCRIPTION:At 8.00pm until 11.00pm.\n           Best way is to book direct because different prices are quoted dependant on age.\n           Book direct with Grassholme on – Astrophotography – Booking by Bookwhen\n\n\n\nWHERE TO FIND US\nNear Mickleton Village\, Barnard Castle\nIf coming from the north\, take the B6277 from the A67 at Barnard Castle. Continue along the B6277 towards Mickleton. Turn off left at the western end of the village onto West Pasture Road\, signposted Grassholme Reservoir. The main car park is roughly a mile up the road on the right. \nIf coming from the south\, take the B6276 from the A66 at Brough. Continue along the B6276 for 10 miles towards Thringarth. Turn right before reaching Thringarth onto Grassholme Lane\, near Selset Reservoir. Turn left onto Kelton Lane and the Grassholme Observatory main car park is roughly a mile up the road on the left. \nFind us using sat nav:\nDL12 0PW
URL:https://www.thervps.com/event/astrophotography-at-grassholme-observatory/
LOCATION:Grassholme Observatory\, Grassholme Reservoir\, Middleton-in-Teesdale\, Barnard Castle\, DL12 0PW\, United Kingdom
CATEGORIES:External Trip
END:VEVENT
BEGIN:VEVENT
DTSTART;TZID=Europe/London:20241102T080000
DTEND;TZID=Europe/London:20241102T170000
DTSTAMP:20260425T120700
CREATED:20240613T042837Z
LAST-MODIFIED:20240613T042837Z
UID:1341-1730534400-1730566800@www.thervps.com
SUMMARY:SATURDAY 2ND NOVEMBER - SALFORD VAN HIRE NEIL HOWARD STAGE RALLY AND FIREWORKS AT OULTON PARK
DESCRIPTION:0800  -     Meet at Oulton Park – Neil Howard Memorial Stage Rally and Fireworks @ Oulton Park November 2024 \n  \nWEBSITE DETAILS:  \nADULT AGES 16 AND ABOVE \n\n\n£21.00 ONLINE (GATE £25.00) SAVE 16% \n\n\n\n\nTEEN AGES 13 – 15\n\n\n£13.00 ONLINE (GATE £15.00) SAVE 13% \n\n\n\n\nSENIOR CITIZEN AGES 65 AND ABOVE\n\n\n£20.00 GATE ONLY \nPLEASE NOTE: Advance booking ends 16:00 Thursday 31 October. If you do not select e-tickets\, your order will be sent by Recorded Delivery (£3.99 per booking) or Special Delivery (£9.49 per booking) if specified. All posted orders received after 14:00 Wednesday 30 October will be sent by Special Delivery. Telephone bookings are subject to a surcharge of £1 per admission ticket. E-tickets can be accessed from your MSV online account. Under 18s must be accompanied by an Adult.
URL:https://www.thervps.com/event/saturday-2nd-november-salford-van-hire-neil-howard-stage-rally-and-fireworks-at-oulton-park/
LOCATION:Oulton Park\, Oulton Park Circuit\, Little Budworth\, Tarporley\, Cheshire\, CW6 9BW\, United Kingdom
CATEGORIES:External Trip
END:VEVENT
BEGIN:VEVENT
DTSTART;TZID=Europe/London:20241025T000000
DTEND;TZID=Europe/London:20241122T235959
DTSTAMP:20260425T120700
CREATED:20240613T014339Z
LAST-MODIFIED:20240613T014339Z
UID:1320-1729814400-1732319999@www.thervps.com
SUMMARY:Mellor Library Exhibition
DESCRIPTION:Our photographs will be on show at Mellor Library
URL:https://www.thervps.com/event/mellor-library-exhibition/
LOCATION:Mellor Library\, St Mary's Gardens\, Mellor\, blackburn\, bb2 7jw\, United Kingdom
CATEGORIES:Exhibitions
END:VEVENT
BEGIN:VEVENT
DTSTART;TZID=Europe/London:20241020T100000
DTEND;TZID=Europe/London:20241020T170000
DTSTAMP:20260425T120700
CREATED:20240613T042434Z
LAST-MODIFIED:20240613T042449Z
UID:1338-1729418400-1729443600@www.thervps.com
SUMMARY:SUNDAY 20TH OCTOBER - FOUNTAINS ABBEY AND STUDLEY ROYAL
DESCRIPTION: Autumn Tints and Red Deer Rut\n10.00am   Meet at The Visitor Centre – Fountains Abbey & Studley Royal | Yorkshire | National Trust\n\nDirections:\n\n\nBy road\n\nOff B6265 to Pateley Bridge from Ripon. Follow the brown signs for Fountains Abbey from A1. We’re 12 miles north of Harrogate (A61). \nParking: Free parking at the visitor centre. Studley Royal pay & display car park is first-come-first-served. For level access car park at West Gate use SatNav HG43DZ. What3Words – Visitor Centre: vanished.jobs.fights. Studley ticket office: hopefully.curiosity.mercy. West Gate ticket office: jams.overpower.flannel \nSat Nav: Use postcode HG43DY
URL:https://www.thervps.com/event/sunday-20th-october-fountains-abbey-and-studley-royal/
LOCATION:Fountains Abbey and Studley Royal Water Garden
CATEGORIES:External Trip
END:VEVENT
BEGIN:VEVENT
DTSTART;TZID=Europe/London:20241017T190000
DTEND;TZID=Europe/London:20241017T210000
DTSTAMP:20260425T120700
CREATED:20240904T003357Z
LAST-MODIFIED:20240904T003357Z
UID:2189-1729191600-1729198800@www.thervps.com
SUMMARY:THURSDAY 17TH OCTOBER -  ( and every third Thursday ) – ZOOM MEETING AT 7.00PM
DESCRIPTION:Zoom meeting will be hosted by John Moxham AND Andy McLaughlin . Please email john@johnmoxham.co.uk with photographs you would like editing or submit any queries you may have of a technical nature you wish to be discussed. \nZoom link – https://us02web.zoom.us/j/82583128865
URL:https://www.thervps.com/event/thursday-17th-october-and-every-third-thursday-zoom-meeting-at-7-00pm/
LOCATION:Online Zoom Meeting
CATEGORIES:Zoom Meeting
END:VEVENT
BEGIN:VEVENT
DTSTART;TZID=Europe/London:20241010T074500
DTEND;TZID=Europe/London:20241010T220000
DTSTAMP:20260425T120700
CREATED:20240904T003231Z
LAST-MODIFIED:20240904T003231Z
UID:2187-1728546300-1728597600@www.thervps.com
SUMMARY:THURSDAY 10TH OCTOBER – PETER SMITH – WILDLIFE PHOTOGRAPHY AT 7.45PM
DESCRIPTION:Peter is a local Wildlife Photographer\, and it is one of Peter’s books that we are offering as a prize in the Exhibition Photo competition. Some of our members recently enjoyed photographing Harvest Mice with Peter. \nPeter Smith | Flickr
URL:https://www.thervps.com/event/thursday-10th-october-peter-smith-wildlife-photography-at-7-45pm/
LOCATION:Knowle Green Village Hall\, Knowle Green Village Hall\, Preston\, Preston\, PR3 2YQ\, United Kingdom
CATEGORIES:Presentation
END:VEVENT
BEGIN:VEVENT
DTSTART;TZID=Europe/London:20240928T100000
DTEND;TZID=Europe/London:20240928T170000
DTSTAMP:20260425T120700
CREATED:20240613T040114Z
LAST-MODIFIED:20240613T040114Z
UID:1335-1727517600-1727542800@www.thervps.com
SUMMARY:SATURDAY 28TH SEPTEMBER - CRAVEN LIME WORKS\, STAINFORTH FORCE AND RIBBLEHEAD VIADUCT
DESCRIPTION:10.00am   Meet at car park postcode BD24 9NU or grid reference SD824 662 or maybe better we travel together leave KGVH at 0900\, Gisburn Cattle Market at 0930
URL:https://www.thervps.com/event/saturday-28th-september-craven-lime-works-stainforth-force-and-ribblehead-viaduct/
LOCATION:Settle Car Park\, Langcliffe\, Settle\, bd24 9nu\, United Kingdom
CATEGORIES:External Trip
END:VEVENT
BEGIN:VEVENT
DTSTART;TZID=Europe/London:20240927T000000
DTEND;TZID=Europe/London:20241025T235959
DTSTAMP:20260425T120700
CREATED:20240613T014042Z
LAST-MODIFIED:20240613T014042Z
UID:1318-1727395200-1729900799@www.thervps.com
SUMMARY:Clitheroe Library Exhibition
DESCRIPTION:Out photographs will be on show at Clitheroe Library.
URL:https://www.thervps.com/event/clitheroe-library-exhibition/
LOCATION:Clitheroe Library\, Church Street\, Clitheroe\, Clitheroe\, bb7 2dg\, United Kingdom
CATEGORIES:Exhibitions
END:VEVENT
BEGIN:VEVENT
DTSTART;TZID=Europe/London:20240926T074500
DTEND;TZID=Europe/London:20240926T220000
DTSTAMP:20260425T120700
CREATED:20240903T222640Z
LAST-MODIFIED:20240903T222640Z
UID:2182-1727336700-1727388000@www.thervps.com
SUMMARY:THURSDAY 26RD SEPTEMBER – MEMBERS PHOTOS – AT 7.45pm
DESCRIPTION:Please email your photographs to ajmclaughlin07@gmail.com If you could send either 2 or 3 images by lunchtime on Wednesday 25th September. Don’t be shy it’s a great night and highly valued by members. \nIT WOULD BE GOOD TO REVIEW MEMBERS PHOTOS FROM THE CHIPPING CHALLENGE
URL:https://www.thervps.com/event/thursday-26rd-september-members-photos-at-7-45pm/
LOCATION:Knowle Green Village Hall\, Knowle Green Village Hall\, Preston\, Preston\, PR3 2YQ\, United Kingdom
CATEGORIES:Members Photos
END:VEVENT
BEGIN:VEVENT
DTSTART;TZID=Europe/London:20240919T080000
DTEND;TZID=Europe/London:20240919T210000
DTSTAMP:20260425T120700
CREATED:20240903T222327Z
LAST-MODIFIED:20240903T222653Z
UID:2178-1726732800-1726779600@www.thervps.com
SUMMARY:THURSDAY 19th SEPTEMBER (and every third Thursday ) – ZOOM MEETING AT 7.00PM
DESCRIPTION:Zoom meeting will be hosted by John Moxham AND Andy McLaughlin. Please email john@johnmoxham.co.uk with photographs you would like editing or submit any queries you may have of a technical nature you wish to be discussed. \nZoom link – https://us02web.zoom.us/j/82583128865 \n 
URL:https://www.thervps.com/event/thursday-19th-september-and-every-third-thursday-zoom-meeting-at-7-00pm/
LOCATION:Online Zoom Meeting
CATEGORIES:Zoom Meeting
ORGANIZER;CN="John Moxham":MAILTO:john@johnmoxham.co.uk
END:VEVENT
BEGIN:VEVENT
DTSTART;TZID=Europe/London:20240913T090000
DTEND;TZID=Europe/London:20240913T170000
DTSTAMP:20260425T120700
CREATED:20240903T221120Z
LAST-MODIFIED:20240903T221408Z
UID:2170-1726218000-1726246800@www.thervps.com
SUMMARY:FRIDAY 13TH SEPTEMBER – OULTON PARK FOR BENNETTS SUPERBIKES at 0900
DESCRIPTION:BSB practice session. Actual racing is on the 14th/15th.\nThe practice session on the 13th will be quieter perhaps giving better photo opportunities.\nTickets online £16 \nMeet at Oulton Park at 0900 or share a lift from Knowle Green Village Hall at 0730
URL:https://www.thervps.com/event/friday-13th-september-oulton-park-for-bennetts-superbikes-at-0900/
LOCATION:Oulton Park\, Oulton Park Circuit\, Little Budworth\, Tarporley\, Cheshire\, CW6 9BW\, United Kingdom
CATEGORIES:External Trip
END:VEVENT
BEGIN:VEVENT
DTSTART;TZID=Europe/London:20240912T074500
DTEND;TZID=Europe/London:20240912T220000
DTSTAMP:20260425T120700
CREATED:20240903T220947Z
LAST-MODIFIED:20240903T220947Z
UID:2168-1726127100-1726178400@www.thervps.com
SUMMARY:THURSDAY 12th SEPTEMBER – GEORGE FRANKS WILL BE PRESENTING A TALK ON STILL LIFE AND PRODUCT PHOTOGRAPHY
DESCRIPTION:George Franks is a pro photographer working for Pro Sports images and Lancashire County Cricket Club – Instagram idge391 or twitter ggf_photos
URL:https://www.thervps.com/event/thursday-12th-september-george-franks-will-be-presenting-a-talk-on-still-life-and-product-photography/
LOCATION:Knowle Green Village Hall\, Knowle Green Village Hall\, Preston\, Preston\, PR3 2YQ\, United Kingdom
CATEGORIES:Presentation
END:VEVENT
BEGIN:VEVENT
DTSTART;TZID=Europe/London:20240906T103000
DTEND;TZID=Europe/London:20240906T170000
DTSTAMP:20260425T120700
CREATED:20240613T035801Z
LAST-MODIFIED:20240613T035810Z
UID:1332-1725618600-1725642000@www.thervps.com
SUMMARY:FRIDAY 6TH SEPTEMBER - SNAIZEHOLME FOR RED SQUIRRELS
DESCRIPTION:10.30am   Meet at Dales Countryside Museum\, Hawes. We will be catching the Little White Bus which costs £7.36 return for adults. Recommended to book this in\n            advance. Red Squirrel Trail : Yorkshire Dales National Park – Red Squirrel Trail : Yorkshire Dales National Park
URL:https://www.thervps.com/event/friday-6th-september-snaizeholme-for-red-squirrels/
LOCATION:Dales Countryside Museum\, Station Yard\, Burtersett Road\, Hawes\, North Yorkshire\, DL8 3NT\, United Kingdom
CATEGORIES:External Trip
END:VEVENT
BEGIN:VEVENT
DTSTART;TZID=Europe/London:20240830T000000
DTEND;TZID=Europe/London:20240927T235959
DTSTAMP:20260425T120700
CREATED:20240613T013924Z
LAST-MODIFIED:20240613T013924Z
UID:1316-1724976000-1727481599@www.thervps.com
SUMMARY:Longridge Library Exhibition
DESCRIPTION:Out Photographs will be on show at Longridge Library.
URL:https://www.thervps.com/event/longridge-library-exhibition/
LOCATION:Longridge Library\, Berry Lane\, Longridge\, pr3 3ja\, United Kingdom
CATEGORIES:Exhibitions
END:VEVENT
BEGIN:VEVENT
DTSTART;TZID=Europe/London:20240815T190000
DTEND;TZID=Europe/London:20240815T213000
DTSTAMP:20260425T120700
CREATED:20240613T035345Z
LAST-MODIFIED:20240613T035422Z
UID:1327-1723748400-1723757400@www.thervps.com
SUMMARY:CHIPPING PHOTO CHALLENGE - THURSDAY 15TH AUGUST
DESCRIPTION:7.00pm –   Meet up at 7.00pm outside St Bartholomew’s Church. There are 10 challenges which will be announced shortly
URL:https://www.thervps.com/event/thursday-15th-august-chipping-challenge/
LOCATION:St.Bartholomew Church Chipping\, Chipping\, Preston\, pr3 2qh
CATEGORIES:Photo Challenge
END:VEVENT
BEGIN:VEVENT
DTSTART;TZID=Europe/London:20240802T000000
DTEND;TZID=Europe/London:20240830T235959
DTSTAMP:20260425T120700
CREATED:20240613T013051Z
LAST-MODIFIED:20240613T013320Z
UID:1305-1722556800-1725062399@www.thervps.com
SUMMARY:Whalley Library Exhibition
DESCRIPTION:Our photographs will be on show at Whalley Library.
URL:https://www.thervps.com/event/whalley-library-exhibition/
LOCATION:Whalley Library\, 1 Abbots Croft\, Whalley\, Clitheroe\, bb7 9rs\, United Kingdom
CATEGORIES:Exhibitions
END:VEVENT
BEGIN:VEVENT
DTSTART;TZID=Europe/London:20240726T083000
DTEND;TZID=Europe/London:20240726T160000
DTSTAMP:20260425T120700
CREATED:20240613T035038Z
LAST-MODIFIED:20240613T035402Z
UID:1324-1721982600-1722009600@www.thervps.com
SUMMARY:MANCHESTER STREET PHOTOGRAPHY - FRIDAY 26TH JULY
DESCRIPTION:08.30  -    train from Whalley to Manchester Victoria\n10.00 -    Cafe North\, 66 Shudehill\, Manchester M4 4AA.\nWe will spend the day in Manchester including a visit to John Ryland Library.  Finish will be approx 4.00pm.
URL:https://www.thervps.com/event/friday-26th-july-manchester-street-photography/
LOCATION:Manchester
CATEGORIES:External Trip
END:VEVENT
BEGIN:VEVENT
DTSTART;TZID=Europe/London:20240719T000000
DTEND;TZID=Europe/London:20240721T235959
DTSTAMP:20260425T120700
CREATED:20240613T012659Z
LAST-MODIFIED:20240613T012720Z
UID:1302-1721347200-1721606399@www.thervps.com
SUMMARY:ROYAL LANCASHIRE SHOW 19TH\, 20TH AND 21ST JULY - RVPS Stand
DESCRIPTION:We have been able to secure a stand at the Royal Lancs Show. Incredible I know\, but true. If you would like to offer any of your prints for sale please contact andy@thervps.com. Equally we will need help on the stand each day. The gates are open 0930 to 1730 each day so please again let me know if you are able to help.\nWe will use the same prints as are being used within the exhibition.
URL:https://www.thervps.com/event/1302/
LOCATION:Preston
CATEGORIES:RVPS Stand Event
END:VEVENT
BEGIN:VEVENT
DTSTART;TZID=Europe/London:20240706T000000
DTEND;TZID=Europe/London:20240706T235959
DTSTAMP:20260425T120700
CREATED:20240613T012545Z
LAST-MODIFIED:20240613T012733Z
UID:1300-1720224000-1720310399@www.thervps.com
SUMMARY:Longridge Show - RVPS Stand
DESCRIPTION:If you are able to help on the day this would be great. If we split this up into:\n\n0830 – 1000 assistance in setting up\n1000 – 1200 help on stand\n1200 – 1400 help on stand\n1400 – 1600 help on stand\n1600 – 1700 assistance to take down stand.
URL:https://www.thervps.com/event/longridge-show-rvps-stand/
LOCATION:Preston
CATEGORIES:RVPS Stand Event
END:VEVENT
BEGIN:VEVENT
DTSTART;TZID=Europe/London:20240627T194500
DTEND;TZID=Europe/London:20240627T220000
DTSTAMP:20260425T120700
CREATED:20240613T012047Z
LAST-MODIFIED:20240613T012233Z
UID:1296-1719517500-1719525600@www.thervps.com
SUMMARY:THURSDAY 27TH JUNE – MEMBERS PHOTOS – AT 7.45pm
DESCRIPTION:Please email your photographs to andy@thervps.com. If you could send either 2 or 3 images by lunchtime on Wednesday 26th June. Don’t be shy it’s a great night and highly valued by members.
URL:https://www.thervps.com/event/thursday-27th-june-members-photos-at-7-45pm/
LOCATION:Knowle Green Village Hall\, Knowle Green Village Hall\, Preston\, Preston\, PR3 2YQ\, United Kingdom
CATEGORIES:Members Photos
END:VEVENT
BEGIN:VEVENT
DTSTART;TZID=Europe/London:20240620T190000
DTEND;TZID=Europe/London:20240620T210000
DTSTAMP:20260425T120700
CREATED:20240613T011942Z
LAST-MODIFIED:20240613T044431Z
UID:1291-1718910000-1718917200@www.thervps.com
SUMMARY:THURSDAY 20TH JUNE (and every third Thursday) – ZOOM MEETING AT 7.00PM
DESCRIPTION:Zoom meeting will be hosted by Andy McLaughlin. Please email andy@thervps.com with photographs you would like editing or submit any queries you may have of a technical nature you wish to be discussed.\nZoom link – https://us02web.zoom.us/j/82583128865
URL:https://www.thervps.com/event/thursday-20th-june-and-every-third-thursday-zoom-meeting-at-7-00pm/
LOCATION:Online Zoom Meeting
CATEGORIES:Zoom Meeting
END:VEVENT
BEGIN:VEVENT
DTSTART;TZID=Europe/London:20240613T194500
DTEND;TZID=Europe/London:20240613T220000
DTSTAMP:20260425T120700
CREATED:20240612T222742Z
LAST-MODIFIED:20240613T044358Z
UID:1269-1718307900-1718316000@www.thervps.com
SUMMARY:THURSDAY 13TH JUNE - BRIAN LAW - IPHONE PHOTOGRAPHY AT 7.45PM
DESCRIPTION:
URL:https://www.thervps.com/event/thursday-13th-june-brian-law-iphone-photography-at-7-45pm/
LOCATION:Knowle Green Village Hall\, Knowle Green Village Hall\, Preston\, Preston\, PR3 2YQ\, United Kingdom
CATEGORIES:Presentation
END:VEVENT
END:VCALENDAR