BEGIN:VCALENDAR
VERSION:2.0
PRODID:-//RVPS - ECPv6.15.20//NONSGML v1.0//EN
CALSCALE:GREGORIAN
METHOD:PUBLISH
X-ORIGINAL-URL:https://www.thervps.com
X-WR-CALDESC:Events for RVPS
REFRESH-INTERVAL;VALUE=DURATION:PT1H
X-Robots-Tag:noindex
X-PUBLISHED-TTL:PT1H
BEGIN:VTIMEZONE
TZID:Europe/London
BEGIN:DAYLIGHT
TZOFFSETFROM:+0000
TZOFFSETTO:+0100
TZNAME:BST
DTSTART:20250330T010000
END:DAYLIGHT
BEGIN:STANDARD
TZOFFSETFROM:+0100
TZOFFSETTO:+0000
TZNAME:GMT
DTSTART:20251026T010000
END:STANDARD
BEGIN:DAYLIGHT
TZOFFSETFROM:+0000
TZOFFSETTO:+0100
TZNAME:BST
DTSTART:20260329T010000
END:DAYLIGHT
BEGIN:STANDARD
TZOFFSETFROM:+0100
TZOFFSETTO:+0000
TZNAME:GMT
DTSTART:20261025T010000
END:STANDARD
BEGIN:DAYLIGHT
TZOFFSETFROM:+0000
TZOFFSETTO:+0100
TZNAME:BST
DTSTART:20270328T010000
END:DAYLIGHT
BEGIN:STANDARD
TZOFFSETFROM:+0100
TZOFFSETTO:+0000
TZNAME:GMT
DTSTART:20271031T010000
END:STANDARD
END:VTIMEZONE
BEGIN:VEVENT
DTSTART;TZID=Europe/London:20260312T071500
DTEND;TZID=Europe/London:20260312T211500
DTSTAMP:20260425T134731
CREATED:20260302T233242Z
LAST-MODIFIED:20260303T043557Z
UID:8667-1773299700-1773350100@www.thervps.com
SUMMARY:Nick Pope Presents Street Photography
DESCRIPTION:Thursday 12th of March we welcome Nick Pope.  \nTitle:          Street Photography by Nick Pope \nDate:           12/03/2026 \nDescription:    Nick will talk through his story and experience when taking his portrait shots. \nCheck out his Website:\nhttps://www.nickpopephotography.com/
URL:https://www.thervps.com/event/nick-pope-presents-street-photography/
LOCATION:Knowle Green Village Hall\, Knowle Green Village Hall\, Preston\, Preston\, PR3 2YQ\, United Kingdom
END:VEVENT
END:VCALENDAR